BEGIN:VCALENDAR
VERSION:2.0
PRODID:-//Plone.org//NONSGML plone.app.event//EN
X-WR-TIMEZONE:Brazil/East
BEGIN:VEVENT
SUMMARY:Câmara no Bairro em Ações de Prevenções de Combate à Dengue
DTSTART;TZID=Brazil/East;VALUE=DATE-TIME:20190406T080000
DTEND;TZID=Brazil/East;VALUE=DATE-TIME:20190406T113000
DTSTAMP;VALUE=DATE-TIME:20260420T003312Z
UID:bcd72cdf297d475e9e8ba24e2ef06205@www.ituiutaba.mg.leg.br
CONTACT:Linda Youssef\, (34)99995-7067
CREATED;VALUE=DATE-TIME:20190405T154636Z
LAST-MODIFIED;VALUE=DATE-TIME:20190405T154707Z
LOCATION:Praça Mário Natal Guimarães
URL:https://www.ituiutaba.mg.leg.br/camara-no-bairro-em-acoes-de-prevencoe
 s-de-combate-a-dengue
END:VEVENT
BEGIN:VTIMEZONE
TZID:Brazil/East
X-LIC-LOCATION:Brazil/East
BEGIN:STANDARD
DTSTART;VALUE=DATE-TIME:20190216T230000
TZNAME:BRT
TZOFFSETFROM:-0200
TZOFFSETTO:-0300
END:STANDARD
END:VTIMEZONE
END:VCALENDAR
