BEGIN:VCALENDAR
VERSION:2.0
PRODID:-//Plone.org//NONSGML plone.app.event//EN
X-WR-TIMEZONE:Brazil/East
BEGIN:VEVENT
SUMMARY:Emater Minas visita Câmara Municipal.
DTSTART;VALUE=DATE:20190417
DTEND;VALUE=DATE:20190418
DTSTAMP;VALUE=DATE-TIME:20260420T005222Z
UID:fd6285af04da4708af3bebfb68b9cf4f@www.ituiutaba.mg.leg.br
CREATED;VALUE=DATE-TIME:20190417T151724Z
LAST-MODIFIED;VALUE=DATE-TIME:20190417T153728Z
URL:https://www.ituiutaba.mg.leg.br/emater-minas-visita-camara-municipal
END:VEVENT
END:VCALENDAR
