BEGIN:VCALENDAR
VERSION:2.0
PRODID:-//Plone.org//NONSGML plone.app.event//EN
X-WR-TIMEZONE:Brazil/East
BEGIN:VEVENT
SUMMARY:Projeto "Respeito à vida"
DTSTART;TZID=Brazil/East;VALUE=DATE-TIME:20190408T090000
DTEND;TZID=Brazil/East;VALUE=DATE-TIME:20190408T170000
DTSTAMP;VALUE=DATE-TIME:20260419T225804Z
UID:61fd05660fe6421dbb29a31cf8a896a7@www.ituiutaba.mg.leg.br
CREATED;VALUE=DATE-TIME:20190403T133001Z
DESCRIPTION:Peça Teatral "Os três amigos"\nAgenda de apresentações do 
 mês de Abril\nLocal: Escola Municipal Manoel Alves Vilela\nHorários: 9h:
 00\, 10h:00\, 11h:00\, 14h:00\, 15h:00 e 16h:00\nApresentação exclusiva 
 para alunos da escola.
LAST-MODIFIED;VALUE=DATE-TIME:20190403T133019Z
URL:https://www.ituiutaba.mg.leg.br/institucional/eventos/projeto-respeito
 -a-vida-4
END:VEVENT
BEGIN:VTIMEZONE
TZID:Brazil/East
X-LIC-LOCATION:Brazil/East
BEGIN:STANDARD
DTSTART;VALUE=DATE-TIME:20190216T230000
TZNAME:BRT
TZOFFSETFROM:-0200
TZOFFSETTO:-0300
END:STANDARD
END:VTIMEZONE
END:VCALENDAR
